BEGIN:VCALENDAR
VERSION:2.0
CALSCALE:GREGORIAN
PRODID:-//Diputació de Barcelona//DibaCMS//EN
BEGIN:VEVENT
UID:4028
DTSTAMP:20260422T175929
DTSTART:20231016T080000
DTEND:20471019T000000
SUMMARY:La Fira del Bosc-Canyamars Medieval encisa de nou
LOCATION:
METHOD:PUBLISH
X-WR-CALNAME:dosrius@dosrius.cat
X-WR-TIMEZONE:Europe/Madrid
DESCRIPTION:L’esdeveniment ha tancat aquest cap de setmana una nova edició plena d’activitats que han estat tot un èxit organitzatiu i de convocatòria.

URI:https://www.dosrius.cat/actualitat/noticies/la-fira-del-bosc-canyamars-medieval-encisa-de-nou.html
CLASS:PUBLIC
END:VEVENT
END:VCALENDAR
