BEGIN:VCALENDAR
VERSION:2.0
CALSCALE:GREGORIAN
PRODID:-//Diputació de Barcelona//DibaCMS//EN
BEGIN:VEVENT
UID:4027
DTSTAMP:20260422T101207
DTSTART:20231011T080000
DTEND:20480327T000000
SUMMARY:Nova sortida al teatre: “Fitzroy. 4 dones al límit"
LOCATION:
METHOD:PUBLISH
X-WR-CALNAME:dosrius@dosrius.cat
X-WR-TIMEZONE:Europe/Madrid
DESCRIPTION:La sortida tindrà lloc el divendres 12 de gener i les inscripcions es poden formalitzar a l’Ajuntament de Dosrius o al telèfon 93 791 80 14.

URI:https://www.dosrius.cat/actualitat/noticies/nova-sortida-al-teatre-fitzroy-4-dones-al-limit.html
CLASS:PUBLIC
END:VEVENT
END:VCALENDAR
