BEGIN:VCALENDAR
VERSION:2.0
CALSCALE:GREGORIAN
PRODID:-//Diputació de Barcelona//DibaCMS//EN
BEGIN:VEVENT
UID:4024
DTSTAMP:20260422T162824
DTSTART:20231029T070000
DTEND:20481023T000000
SUMMARY:Vols participar en el truc o tracte?
LOCATION:
METHOD:PUBLISH
X-WR-CALNAME:dosrius@dosrius.cat
X-WR-TIMEZONE:Europe/Madrid
DESCRIPTION:Envia un correu electrònic a l’adreça puntinformacio@dosrius.cat.

URI:https://www.dosrius.cat/actualitat/noticies/vols-participar-en-el-truc-o-tracte.html
CLASS:PUBLIC
END:VEVENT
END:VCALENDAR
