BEGIN:VCALENDAR
VERSION:2.0
CALSCALE:GREGORIAN
PRODID:-//Diputació de Barcelona//DibaCMS//EN
BEGIN:VEVENT
UID:4023
DTSTAMP:20260422T164228
DTSTART:20231013T070000
DTEND:20481017T000000
SUMMARY:Tradició i cultura es donen la mà aquest cap de setmana a la Fira del Bosc-Canyamars Medieval
LOCATION:
METHOD:PUBLISH
X-WR-CALNAME:dosrius@dosrius.cat
X-WR-TIMEZONE:Europe/Madrid
DESCRIPTION:El 14 i 15 d’octubre se celebraran més d’una quarantena de propostes; entre elles, tallers, accions teatralitzades, recreacions històriques, música i dansa, parades d’artesania i gastronomia, demostracions d’oficis i jocs.

URI:https://www.dosrius.cat/actualitat/noticies/tradicio-i-cultura-es-donen-la-ma-aquest-cap-de-setmana-a-la-fira-del-bosc-canyamars-medieval.html
CLASS:PUBLIC
END:VEVENT
END:VCALENDAR
