BEGIN:VCALENDAR
VERSION:2.0
CALSCALE:GREGORIAN
PRODID:-//Diputació de Barcelona//DibaCMS//EN
BEGIN:VEVENT
UID:4021
DTSTAMP:20260422T164427
DTSTART:20231006T080000
DTEND:20481218T000000
SUMMARY:11 d'octubre: Ple municipal extraordinari
LOCATION:
METHOD:PUBLISH
X-WR-CALNAME:dosrius@dosrius.cat
X-WR-TIMEZONE:Europe/Madrid
DESCRIPTION:La sessió tindrà lloc a la Sala de Plens a les 18 h i es podrà seguir en directe a través del canal de YouTube de l'Ajuntament.

URI:https://www.dosrius.cat/actualitat/noticies/11-doctubre-ple-municipal-extraordinari.html
CLASS:PUBLIC
END:VEVENT
END:VCALENDAR
