BEGIN:VCALENDAR
VERSION:2.0
CALSCALE:GREGORIAN
PRODID:-//Diputació de Barcelona//DibaCMS//EN
BEGIN:VEVENT
UID:4019
DTSTAMP:20260422T132322
DTSTART:20231004T000000
DTEND:20481017T235500
SUMMARY:Apunta’t al taller d’iniciació a la genealogia!
LOCATION:
METHOD:PUBLISH
X-WR-CALNAME:dosrius@dosrius.cat
X-WR-TIMEZONE:Europe/Madrid
DESCRIPTION:Durant l’activitat els participants rebran indicacions i consells per fer la seva recerca genealògica.

URI:https://www.dosrius.cat/actualitat/noticies/apuntat-al-taller-diniciacio-a-la-genealogia.html
CLASS:PUBLIC
END:VEVENT
END:VCALENDAR
