BEGIN:VCALENDAR
VERSION:2.0
CALSCALE:GREGORIAN
PRODID:-//Diputació de Barcelona//DibaCMS//EN
BEGIN:VEVENT
UID:4016
DTSTAMP:20260422T101233
DTSTART:20231002T000000
DTEND:20481017T000000
SUMMARY:Avancen a bon ritme les obres del nou Institut Els Roures
LOCATION:
METHOD:PUBLISH
X-WR-CALNAME:dosrius@dosrius.cat
X-WR-TIMEZONE:Europe/Madrid
DESCRIPTION:Lla primera pedra es va posar el passat 22 de febrer de 2023.

URI:https://www.dosrius.cat/actualitat/noticies/avancen-a-bon-ritme-les-obres-del-nou-institut-els-roures.html
CLASS:PUBLIC
END:VEVENT
END:VCALENDAR
