BEGIN:VCALENDAR
VERSION:2.0
CALSCALE:GREGORIAN
PRODID:-//Diputació de Barcelona//DibaCMS//EN
BEGIN:VEVENT
UID:4011
DTSTAMP:20260422T160808
DTSTART:20230920T000000
DTEND:20240919T000000
SUMMARY:Atenció, canvi organitzatiu en la Festa Major de Can Massuet del Far
LOCATION:
METHOD:PUBLISH
X-WR-CALNAME:dosrius@dosrius.cat
X-WR-TIMEZONE:Europe/Madrid
DESCRIPTION:Per problemes tècnics aliens a l’organització l’actuació del grup “Versión Imposible” queda anul·lada i serà substituïda per l’actuació de “Los 80 Principales”.

URI:https://www.dosrius.cat/actualitat/noticies/atencio-canvi-organitzatiu-en-la-festa-major-de-can-massuet-del-far.html
CLASS:PUBLIC
END:VEVENT
END:VCALENDAR
