BEGIN:VCALENDAR
VERSION:2.0
CALSCALE:GREGORIAN
PRODID:-//Diputació de Barcelona//DibaCMS//EN
BEGIN:VEVENT
UID:4010
DTSTAMP:20260422T181139
DTSTART:20230628T083400
DTEND:20230628T083400
SUMMARY:LA DIPUTACIÓ FINANÇA L’ADQUISICIÓ DE MOBILIÀRI PER L’ARXIU HISTÒRIC MUNICIPAL A L’EDIFICI DE “LA TOTRUGA”
LOCATION:
METHOD:PUBLISH
X-WR-CALNAME:dosrius@dosrius.cat
X-WR-TIMEZONE:Europe/Madrid
DESCRIPTION:
URI:https://www.dosrius.cat/actualitat/noticies/la-diputacio-financa-ladquisicio-de-mobiliari-per-larxiu-historic-municipal-a-ledifici-de-la-totruga.html
CLASS:PUBLIC
END:VEVENT
END:VCALENDAR
