BEGIN:VCALENDAR
VERSION:2.0
CALSCALE:GREGORIAN
PRODID:-//Diputació de Barcelona//DibaCMS//EN
BEGIN:VEVENT
UID:4007
DTSTAMP:20260422T105820
DTSTART:20230918T000000
DTEND:20480912T000000
SUMMARY:Comunicat de l’Ajuntament de Dosrius sobre la planta d'aglomerat asfàltic a la Pedrera del Rocà
LOCATION:
METHOD:PUBLISH
X-WR-CALNAME:dosrius@dosrius.cat
X-WR-TIMEZONE:Europe/Madrid
DESCRIPTION:
URI:https://www.dosrius.cat/actualitat/noticies/comunicat-de-lajuntament-de-dosrius-sobre-la-planta-daglomerat-asfaltic-a-la-pedrera-del-roca.html
CLASS:PUBLIC
END:VEVENT
END:VCALENDAR
