BEGIN:VCALENDAR
VERSION:2.0
CALSCALE:GREGORIAN
PRODID:-//Diputació de Barcelona//DibaCMS//EN
BEGIN:VEVENT
UID:4004
DTSTAMP:20260422T144558
DTSTART:20230914T080000
DTEND:20480919T000000
SUMMARY:Comunicat de l'Ajuntament de Dosrius
LOCATION:
METHOD:PUBLISH
X-WR-CALNAME:dosrius@dosrius.cat
X-WR-TIMEZONE:Europe/Madrid
DESCRIPTION:L’Ajuntament de Dosrius condemna enèrgicament els fets ocorreguts a principis d’aquest mes de setembre i denunciats per la protectora Amics dels Animals de Dosrius. 

URI:https://www.dosrius.cat/arees/medi-ambient/dosrius-residus/292-actualitat/comunicat-de-lajuntament-de-dosrius.html
CLASS:PUBLIC
END:VEVENT
END:VCALENDAR
