BEGIN:VCALENDAR
VERSION:2.0
CALSCALE:GREGORIAN
PRODID:-//Diputació de Barcelona//DibaCMS//EN
BEGIN:VEVENT
UID:4003
DTSTAMP:20260422T163735
DTSTART:20230926T070000
DTEND:20240911T000000
SUMMARY:Dosrius torna a retre homenatge a la seva gent gran
LOCATION:
METHOD:PUBLISH
X-WR-CALNAME:dosrius@dosrius.cat
X-WR-TIMEZONE:Europe/Madrid
DESCRIPTION:La Festa de la Gent Gran 2023 tindrà lloc el 30 de setembre i 1 d’octubre. Per a participar en les activitats cal inscriure’s prèviament a l’Ajuntament abans del 26 de setembre.

URI:https://www.dosrius.cat/actualitat/noticies/dosrius-torna-a-retre-homenatge-a-la-seva-gent-gran.html
CLASS:PUBLIC
END:VEVENT
END:VCALENDAR
