BEGIN:VCALENDAR
VERSION:2.0
CALSCALE:GREGORIAN
PRODID:-//Diputació de Barcelona//DibaCMS//EN
BEGIN:VEVENT
UID:3998
DTSTAMP:20260422T144730
DTSTART:20230914T084500
DTEND:20470913T000000
SUMMARY:Protecció Civil farà el 14 de setembre una prova del sistema d'alertes a telèfons mòbils que inclourà Dosrius
LOCATION:
METHOD:PUBLISH
X-WR-CALNAME:dosrius@dosrius.cat
X-WR-TIMEZONE:Europe/Madrid
DESCRIPTION:A partir de les 10 h s’enviarà un missatge emergent als telèfons mòbils de la població de Dosrius i tot el Maresme.

URI:https://www.dosrius.cat/actualitat/noticies/proteccio-civil-fara-el-14-de-setembre-una-prova-del-sistema-dalertes-a-telefons-mobils-que-incloura-dosrius.html
CLASS:PUBLIC
END:VEVENT
END:VCALENDAR
