BEGIN:VCALENDAR
VERSION:2.0
CALSCALE:GREGORIAN
PRODID:-//Diputació de Barcelona//DibaCMS//EN
BEGIN:VEVENT
UID:3997
DTSTAMP:20260422T101329
DTSTART:20230905T000000
DTEND:20480905T000000
SUMMARY:Dosrius celebra una Festa Major per al record
LOCATION:
METHOD:PUBLISH
X-WR-CALNAME:dosrius@dosrius.cat
X-WR-TIMEZONE:Europe/Madrid
DESCRIPTION:L’Ajuntament felicita a la Comissió de Festes de Dosrius i a totes les entitats implicades pel gran èxit organitzatiu i de participació de la Festa Major.

URI:https://www.dosrius.cat/actualitat/noticies/dosrius-celebra-una-festa-major-per-al-record.html
CLASS:PUBLIC
END:VEVENT
END:VCALENDAR
