BEGIN:VCALENDAR
VERSION:2.0
CALSCALE:GREGORIAN
PRODID:-//Diputació de Barcelona//DibaCMS//EN
BEGIN:VEVENT
UID:3996
DTSTAMP:20260422T055755
DTSTART:20230905T080000
DTEND:20480925T000000
SUMMARY:Dosrius commemora la Diada Nacional de Catalunya
LOCATION:
METHOD:PUBLISH
X-WR-CALNAME:dosrius@dosrius.cat
X-WR-TIMEZONE:Europe/Madrid
DESCRIPTION:Dilluns 11 de setembre se celebrarà la tradicional ofrena floral i els parlaments públics.

URI:https://www.dosrius.cat/actualitat/noticies/3996-dosrius-commemora-la-diada-nacional-de-catalunya.html
CLASS:PUBLIC
END:VEVENT
END:VCALENDAR
