BEGIN:VCALENDAR
VERSION:2.0
CALSCALE:GREGORIAN
PRODID:-//Diputació de Barcelona//DibaCMS//EN
BEGIN:VEVENT
UID:3993
DTSTAMP:20260422T174529
DTSTART:20230927T100000
DTEND:20480822T000000
SUMMARY:VII Concurs Fotogràfic de Dosrius, Canyamars i El Far
LOCATION:
METHOD:PUBLISH
X-WR-CALNAME:dosrius@dosrius.cat
X-WR-TIMEZONE:Europe/Madrid
DESCRIPTION:Les fotografies es poden presentar fins el 15 d’octubre. 

URI:https://www.dosrius.cat/actualitat/noticies/vii-concurs-fotografic-de-dosrius-canyamars-i-el-far.html
CLASS:PUBLIC
END:VEVENT
END:VCALENDAR
