BEGIN:VCALENDAR
VERSION:2.0
CALSCALE:GREGORIAN
PRODID:-//Diputació de Barcelona//DibaCMS//EN
BEGIN:VEVENT
UID:3992
DTSTAMP:20260422T131822
DTSTART:20230904T080000
DTEND:20480814T000000
SUMMARY:Aquest cap de setmana l’Aplec de Muntanya de Canyamars commemora la seva 65a edició
LOCATION:
METHOD:PUBLISH
X-WR-CALNAME:dosrius@dosrius.cat
X-WR-TIMEZONE:Europe/Madrid
DESCRIPTION:La trobada tindrà lloc diumenge 10 de setembre i inclourà un dinar popular i les actuacions de les cobles Canigó i Premià.

URI:https://www.dosrius.cat/actualitat/noticies/aquest-cap-de-setmana-laplec-de-muntanya-de-canyamars-commemora-la-seva-65a-edicio.html
CLASS:PUBLIC
END:VEVENT
END:VCALENDAR
