BEGIN:VCALENDAR
VERSION:2.0
CALSCALE:GREGORIAN
PRODID:-//Diputació de Barcelona//DibaCMS//EN
BEGIN:VEVENT
UID:3989
DTSTAMP:20260422T090115
DTSTART:20230828T000000
DTEND:20240827T000000
SUMMARY:Participa en les noves activitats que organitzen les entitats del poble!
LOCATION:
METHOD:PUBLISH
X-WR-CALNAME:dosrius@dosrius.cat
X-WR-TIMEZONE:Europe/Madrid
DESCRIPTION:L’Ajuntament fa una crida als veïns i veïnes per apuntar-se i agraeix al teixit associatiu la seva implicació. 

URI:https://www.dosrius.cat/actualitat/noticies/participa-en-les-noves-activitats-que-organitzen-les-entitats-del-poble.html
CLASS:PUBLIC
END:VEVENT
END:VCALENDAR
