BEGIN:VCALENDAR
VERSION:2.0
CALSCALE:GREGORIAN
PRODID:-//Diputació de Barcelona//DibaCMS//EN
BEGIN:VEVENT
UID:3988
DTSTAMP:20260422T085112
DTSTART:20230823T000000
DTEND:20240822T000000
SUMMARY:Convocatòria de beques escolars per al curs 2023-2024
LOCATION:
METHOD:PUBLISH
X-WR-CALNAME:dosrius@dosrius.cat
X-WR-TIMEZONE:Europe/Madrid
DESCRIPTION:Els ajuts es poden sol·licitar del 28 d'agost al 15 de setembre a les oficines municipals o per via telemàtica.

URI:https://www.dosrius.cat/actualitat/noticies/convocatoria-de-beques-escolars-per-al-curs-2023-2024.html
CLASS:PUBLIC
END:VEVENT
END:VCALENDAR
