BEGIN:VCALENDAR
VERSION:2.0
CALSCALE:GREGORIAN
PRODID:-//Diputació de Barcelona//DibaCMS//EN
BEGIN:VEVENT
UID:3986
DTSTAMP:20260422T131954
DTSTART:20230808T000000
DTEND:20240807T000000
SUMMARY:Canyamars dona el tret de sortida a les festes majors amb un gran esclat cultural
LOCATION:
METHOD:PUBLISH
X-WR-CALNAME:dosrius@dosrius.cat
X-WR-TIMEZONE:Europe/Madrid
DESCRIPTION:L’Ajuntament felicita a la Comissió de Festes de Canyamars i a totes les entitats implicades pel gran èxit organitzatiu i de participació de la Festa Major.

URI:https://www.dosrius.cat/actualitat/noticies/canyamars-dona-el-tret-de-sortida-a-les-festes-majors-amb-un-gran-esclat-cultural.html
CLASS:PUBLIC
END:VEVENT
END:VCALENDAR
