BEGIN:VCALENDAR
VERSION:2.0
CALSCALE:GREGORIAN
PRODID:-//Diputació de Barcelona//DibaCMS//EN
BEGIN:VEVENT
UID:3985
DTSTAMP:20260422T162956
DTSTART:20230809T080000
DTEND:20480327T000000
SUMMARY:Nova sortida al teatre: “Els rapinyaires"
LOCATION:
METHOD:PUBLISH
X-WR-CALNAME:dosrius@dosrius.cat
X-WR-TIMEZONE:Europe/Madrid
DESCRIPTION:La sortida tindrà lloc el dissabte 26 d'agost i les inscripcions es poden formalitzar a l’Ajuntament de Dosrius o al telèfon 93 791 80 14.

URI:https://www.dosrius.cat/actualitat/noticies/nova-sortida-al-teatre-els-rapinyaires.html
CLASS:PUBLIC
END:VEVENT
END:VCALENDAR
