BEGIN:VCALENDAR
VERSION:2.0
CALSCALE:GREGORIAN
PRODID:-//Diputació de Barcelona//DibaCMS//EN
BEGIN:VEVENT
UID:3983
DTSTAMP:20260422T163707
DTSTART:20230919T080000
DTEND:20480724T000000
SUMMARY:Festa Major de Can Massuet del Far: del 22 al 24 de setembre
LOCATION:
METHOD:PUBLISH
X-WR-CALNAME:dosrius@dosrius.cat
X-WR-TIMEZONE:Europe/Madrid
DESCRIPTION:El nucli acollirà més d'una vintena de propostes lúdiques i culturals per a tots els públics.

URI:https://www.dosrius.cat/actualitat/noticies/festa-major-de-can-massuet-del-far-del-22-al-24-de-setembre.html
CLASS:PUBLIC
END:VEVENT
END:VCALENDAR
