BEGIN:VCALENDAR
VERSION:2.0
CALSCALE:GREGORIAN
PRODID:-//Diputació de Barcelona//DibaCMS//EN
BEGIN:VEVENT
UID:3982
DTSTAMP:20260422T114413
DTSTART:20230802T080000
DTEND:20480717T000000
SUMMARY:El 21 de setembre, renovació del DNI a Dosrius
LOCATION:
METHOD:PUBLISH
X-WR-CALNAME:dosrius@dosrius.cat
X-WR-TIMEZONE:Europe/Madrid
DESCRIPTION:La recollida de documents es farà el 26 de setembre. Totes les persones interessades hauran de trucar al 93 791 80 14 per tal de concertar cita prèvia.

URI:https://www.dosrius.cat/actualitat/noticies/el-21-de-setembre-renovacio-del-dni-a-dosrius.html
CLASS:PUBLIC
END:VEVENT
END:VCALENDAR
