BEGIN:VCALENDAR
VERSION:2.0
CALSCALE:GREGORIAN
PRODID:-//Diputació de Barcelona//DibaCMS//EN
BEGIN:VEVENT
UID:3981
DTSTAMP:20260422T085025
DTSTART:20230821T080000
DTEND:20480724T000000
SUMMARY:Festa Major de Dosrius: del 31 d'agost al 3 de setembre
LOCATION:
METHOD:PUBLISH
X-WR-CALNAME:dosrius@dosrius.cat
X-WR-TIMEZONE:Europe/Madrid
DESCRIPTION:El nucli acollirà una vintena de propostes lúdiques i culturals per a tots els públics.

URI:https://www.dosrius.cat/actualitat/noticies/festa-major-de-dosrius-del-31-dagost-al-3-de-setembre.html
CLASS:PUBLIC
END:VEVENT
END:VCALENDAR
