BEGIN:VCALENDAR
VERSION:2.0
CALSCALE:GREGORIAN
PRODID:-//Diputació de Barcelona//DibaCMS//EN
BEGIN:VEVENT
UID:3980
DTSTAMP:20260422T163720
DTSTART:20230801T080000
DTEND:20480724T000000
SUMMARY:Festa Major de Canyamars: del 3 al 6 d'agost
LOCATION:
METHOD:PUBLISH
X-WR-CALNAME:dosrius@dosrius.cat
X-WR-TIMEZONE:Europe/Madrid
DESCRIPTION:El nucli acollirà més d'una vintena de propostes lúdiques i culturals per a tots els públics.

URI:https://www.dosrius.cat/actualitat/noticies/festa-major-de-canyamars-del-3-al-6-dagost.html
CLASS:PUBLIC
END:VEVENT
END:VCALENDAR
