BEGIN:VCALENDAR
VERSION:2.0
CALSCALE:GREGORIAN
PRODID:-//Diputació de Barcelona//DibaCMS//EN
BEGIN:VEVENT
UID:3976
DTSTAMP:20260422T191624
DTSTART:20230728T143000
DTEND:20480724T000000
SUMMARY:Ja tenim programa d’activitats de les festes majors d’aquest 2023! 
LOCATION:
METHOD:PUBLISH
X-WR-CALNAME:dosrius@dosrius.cat
X-WR-TIMEZONE:Europe/Madrid
DESCRIPTION:Canyamars donarà el tret de sortida del 3 al 6 d'agost, Dosrius agafarà el relleu del 31 d'agost al 3 de setembre, i Can Massuet del Far clourà les celebracions del 22 al 24 de setembre. 

URI:https://www.dosrius.cat/actualitat/noticies/ja-tenim-programa-dactivitats-de-les-festes-majors-daquest-2023-.html
CLASS:PUBLIC
END:VEVENT
END:VCALENDAR
