BEGIN:VCALENDAR
VERSION:2.0
CALSCALE:GREGORIAN
PRODID:-//Diputació de Barcelona//DibaCMS//EN
BEGIN:VEVENT
UID:3974
DTSTAMP:20260422T073514
DTSTART:20230831T000000
DTEND:20480724T000000
SUMMARY:Visita La Cerdanya per la Castanyada amb els Localets!
LOCATION:
METHOD:PUBLISH
X-WR-CALNAME:dosrius@dosrius.cat
X-WR-TIMEZONE:Europe/Madrid
DESCRIPTION:La sortida se celebrarà els dies 25 i 26 d’octubre i les inscripcions estaran obertes del 14 d’agost al 29 de setembre al 93 791 80 14.

URI:https://www.dosrius.cat/actualitat/noticies/visita-la-cerdanya-per-la-castanyada-amb-els-localets.html
CLASS:PUBLIC
END:VEVENT
END:VCALENDAR
