BEGIN:VCALENDAR
VERSION:2.0
CALSCALE:GREGORIAN
PRODID:-//Diputació de Barcelona//DibaCMS//EN
BEGIN:VEVENT
UID:3973
DTSTAMP:20260422T180451
DTSTART:20230731T080000
DTEND:20480828T000000
SUMMARY:Sortida dels Localets a Cambrils
LOCATION:
METHOD:PUBLISH
X-WR-CALNAME:dosrius@dosrius.cat
X-WR-TIMEZONE:Europe/Madrid
DESCRIPTION:L’activitat tindrà lloc el 13 de setembre i per a participar-hi cal inscriure’s del 14 d’agost al 8 de setembre trucant al telèfon 93 791 80 14.

URI:https://www.dosrius.cat/actualitat/noticies/sortida-dels-localets-a-cambrils.html
CLASS:PUBLIC
END:VEVENT
END:VCALENDAR
