BEGIN:VCALENDAR
VERSION:2.0
CALSCALE:GREGORIAN
PRODID:-//Diputació de Barcelona//DibaCMS//EN
BEGIN:VEVENT
UID:3972
DTSTAMP:20260422T163515
DTSTART:20230726T000000
DTEND:20480718T000000
SUMMARY:Del 4 al 25 de setembre obriran les inscripcions per a la Festa de la Gent Gran
LOCATION:
METHOD:PUBLISH
X-WR-CALNAME:dosrius@dosrius.cat
X-WR-TIMEZONE:Europe/Madrid
DESCRIPTION:L’esdeveniment tindrà lloc el 30 de setembre i 1 d’octubre.

URI:https://www.dosrius.cat/actualitat/noticies/del-4-al-25-de-setembre-obriran-les-inscripcions-per-a-la-festa-de-la-gent-gran.html
CLASS:PUBLIC
END:VEVENT
END:VCALENDAR
