BEGIN:VCALENDAR
VERSION:2.0
CALSCALE:GREGORIAN
PRODID:-//Diputació de Barcelona//DibaCMS//EN
BEGIN:VEVENT
UID:3971
DTSTAMP:20260422T213839
DTSTART:20230723T000000
DTEND:20480718T000000
SUMMARY:23-J: resultats a Dosrius de les Eleccions Generals
LOCATION:
METHOD:PUBLISH
X-WR-CALNAME:dosrius@dosrius.cat
X-WR-TIMEZONE:Europe/Madrid
DESCRIPTION:Un total de 2.956 veïns i veïnes han exercit el seu dret a vot per a escollir els representants polítics al Congrés dels Diputats i al Senat.

URI:https://www.dosrius.cat/actualitat/noticies/23-j-resultats-a-dosrius-de-les-eleccions-generals.html
CLASS:PUBLIC
END:VEVENT
END:VCALENDAR
