BEGIN:VCALENDAR
VERSION:2.0
CALSCALE:GREGORIAN
PRODID:-//Diputació de Barcelona//DibaCMS//EN
BEGIN:VEVENT
UID:3967
DTSTAMP:20260422T191549
DTSTART:20230719T080000
DTEND:20480221T000000
SUMMARY:Nova edició de la revista d'informació municipal El Full
LOCATION:
METHOD:PUBLISH
X-WR-CALNAME:dosrius@dosrius.cat
X-WR-TIMEZONE:Europe/Madrid
DESCRIPTION:Ja és al carrer una nova edició d'El Full, la revista d'informació municipal. 

URI:https://www.dosrius.cat/actualitat/noticies/3967-nova-edicio-de-la-revista-dinformacio-municipal-el-full.html
CLASS:PUBLIC
END:VEVENT
END:VCALENDAR
