BEGIN:VCALENDAR
VERSION:2.0
CALSCALE:GREGORIAN
PRODID:-//Diputació de Barcelona//DibaCMS//EN
BEGIN:VEVENT
UID:3959
DTSTAMP:20260422T163612
DTSTART:20230706T130000
DTEND:20470727T000000
SUMMARY:L’Ajuntament de Dosrius formalitza el cartipàs municipal pel mandat 2023-2027
LOCATION:
METHOD:PUBLISH
X-WR-CALNAME:dosrius@dosrius.cat
X-WR-TIMEZONE:Europe/Madrid
DESCRIPTION:El nou equip de govern està format per l’alcaldessa Sílvia Garrido i els regidors i regidores Pere Rovira, Joan Ribes, Lluís Farrerons, Toñi Pérez, Maribel Forné i Jorge Fernández. 

URI:https://www.dosrius.cat/actualitat/noticies/lajuntament-de-dosrius-formalitza-el-cartipas-municipal-pel-mandat-2023-2027.html
CLASS:PUBLIC
END:VEVENT
END:VCALENDAR
