BEGIN:VCALENDAR
VERSION:2.0
CALSCALE:GREGORIAN
PRODID:-//Diputació de Barcelona//DibaCMS//EN
BEGIN:VEVENT
UID:3953
DTSTAMP:20260422T192632
DTSTART:20230720T110000
DTEND:20480725T000000
SUMMARY:Matrícula oberta a l’Escola Municipal de Música pel curs 2023/2024
LOCATION:
METHOD:PUBLISH
X-WR-CALNAME:dosrius@dosrius.cat
X-WR-TIMEZONE:Europe/Madrid
DESCRIPTION:La matrícula es pot formalitzar a emmdosrius@amicsdelaunio.cat, emmdosrius.amicsdelaunio.cat o al 698 080 369.

URI:https://www.dosrius.cat/actualitat/noticies/matricula-oberta-a-lescola-municipal-de-musica-pel-curs-20232024.html
CLASS:PUBLIC
END:VEVENT
END:VCALENDAR
