BEGIN:VCALENDAR
VERSION:2.0
CALSCALE:GREGORIAN
PRODID:-//Diputació de Barcelona//DibaCMS//EN
BEGIN:VEVENT
UID:3948
DTSTAMP:20260422T151009
DTSTART:20230629T000000
DTEND:20480627T000000
SUMMARY:El nou skatepark de Dosrius ja té data d’inauguració: el dissabte 8 de juliol!
LOCATION:
METHOD:PUBLISH
X-WR-CALNAME:dosrius@dosrius.cat
X-WR-TIMEZONE:Europe/Madrid
DESCRIPTION:L’equipament s’estrenarà amb una jornada plena d’activitats, tallers, competicions i premis.

URI:https://www.dosrius.cat/actualitat/noticies/el-nou-skatepark-de-dosrius-ja-te-data-dinauguracio-el-dissabte-8-de-juliol.html
CLASS:PUBLIC
END:VEVENT
END:VCALENDAR
