BEGIN:VCALENDAR
VERSION:2.0
CALSCALE:GREGORIAN
PRODID:-//Diputació de Barcelona//DibaCMS//EN
BEGIN:VEVENT
UID:3946
DTSTAMP:20260422T210405
DTSTART:20230627T080000
DTEND:20480522T000000
SUMMARY:Manual d’instruccions per a les persones que formen part de les meses electorals per a les Eleccions a les Corts Generals 2023
LOCATION:
METHOD:PUBLISH
X-WR-CALNAME:dosrius@dosrius.cat
X-WR-TIMEZONE:Europe/Madrid
DESCRIPTION:El comicis tindran lloc el pròxim diumenge 23 de juliol.

URI:https://www.dosrius.cat/actualitat/noticies/manual-dinstruccions-per-a-les-persones-que-formen-part-de-les-meses-electorals-per-a-les-eleccions-a-les-corts-generals-2023.html
CLASS:PUBLIC
END:VEVENT
END:VCALENDAR
