BEGIN:VCALENDAR
VERSION:2.0
CALSCALE:GREGORIAN
PRODID:-//Diputació de Barcelona//DibaCMS//EN
BEGIN:VEVENT
UID:3945
DTSTAMP:20260422T164308
DTSTART:20230626T110000
DTEND:20480619T000000
SUMMARY:Els Localets començaran el curs 2023/2024 amb un ampli programa d’activitats
LOCATION:
METHOD:PUBLISH
X-WR-CALNAME:dosrius@dosrius.cat
X-WR-TIMEZONE:Europe/Madrid
DESCRIPTION:Les inscripcions s’han de formalitzar del 3 al 14 de juliol.

URI:https://www.dosrius.cat/actualitat/noticies/els-localets-comencaran-el-curs-20232024-amb-un-ampli-programa-dactivitats.html
CLASS:PUBLIC
END:VEVENT
END:VCALENDAR
