BEGIN:VCALENDAR
VERSION:2.0
CALSCALE:GREGORIAN
PRODID:-//Diputació de Barcelona//DibaCMS//EN
BEGIN:VEVENT
UID:3940
DTSTAMP:20260422T163550
DTSTART:20230621T080000
DTEND:20480627T000000
SUMMARY:Si tens entre 5 i 16 anys apunta’t als tallers gratuïts d’skate!
LOCATION:
METHOD:PUBLISH
X-WR-CALNAME:dosrius@dosrius.cat
X-WR-TIMEZONE:Europe/Madrid
DESCRIPTION:Els tallers es faran el 8 de juliol i per a participar-hi cal emplenar el formulari d’inscripció i enviar-lo a mpetanas@dosrius.cat.

URI:https://www.dosrius.cat/actualitat/noticies/si-tens-entre-5-i-16-anys-apuntat-als-tallers-gratuits-dskate.html
CLASS:PUBLIC
END:VEVENT
END:VCALENDAR
