BEGIN:VCALENDAR
VERSION:2.0
CALSCALE:GREGORIAN
PRODID:-//Diputació de Barcelona//DibaCMS//EN
BEGIN:VEVENT
UID:3938
DTSTAMP:20260422T191948
DTSTART:20230630T100000
DTEND:20480626T000000
SUMMARY:Casal d’estiu per a nadons
LOCATION:
METHOD:PUBLISH
X-WR-CALNAME:dosrius@dosrius.cat
X-WR-TIMEZONE:Europe/Madrid
DESCRIPTION:El casal es durà a terme a l’EBM La Caseta del Bosc de Can Martorell i les inscripcions s’han de formalitzar del 30 de juny al 3 de juliol en aquest enllaç.

URI:https://www.dosrius.cat/actualitat/noticies/casal-destiu-per-a-nadons.html
CLASS:PUBLIC
END:VEVENT
END:VCALENDAR
