BEGIN:VCALENDAR
VERSION:2.0
CALSCALE:GREGORIAN
PRODID:-//Diputació de Barcelona//DibaCMS//EN
BEGIN:VEVENT
UID:3937
DTSTAMP:20260422T151650
DTSTART:20230619T130000
DTEND:20480619T000000
SUMMARY: Restriccions de trànsit a Dosrius pel dimecres 21 de juny
LOCATION:
METHOD:PUBLISH
X-WR-CALNAME:dosrius@dosrius.cat
X-WR-TIMEZONE:Europe/Madrid
DESCRIPTION:Les restriccions es duran a terme de 07 a 20 h.

URI:https://www.dosrius.cat/actualitat/noticies/-restriccions-de-transit-a-dosrius-pel-dimecres-21-de-juny.html
CLASS:PUBLIC
END:VEVENT
END:VCALENDAR
