BEGIN:VCALENDAR
VERSION:2.0
CALSCALE:GREGORIAN
PRODID:-//Diputació de Barcelona//DibaCMS//EN
BEGIN:VEVENT
UID:3932
DTSTAMP:20260422T213739
DTSTART:20230616T110000
DTEND:20481218T000000
SUMMARY:17 de juny: Ple municipal extraordinari
LOCATION:
METHOD:PUBLISH
X-WR-CALNAME:dosrius@dosrius.cat
X-WR-TIMEZONE:Europe/Madrid
DESCRIPTION:La sessió tindrà lloc a la Sala de Plens a les 12 h i es podrà seguir en directe a través del canal de YouTube de l'Ajuntament.

URI:https://www.dosrius.cat/actualitat/noticies/17-de-juny-ple-municipal-extraordinari.html
CLASS:PUBLIC
END:VEVENT
END:VCALENDAR
