BEGIN:VCALENDAR
VERSION:2.0
CALSCALE:GREGORIAN
PRODID:-//Diputació de Barcelona//DibaCMS//EN
BEGIN:VEVENT
UID:3930
DTSTAMP:20260422T151858
DTSTART:20230626T080000
DTEND:20480626T000000
SUMMARY:37a Cantada d’havaneres i lliurament de premis del XIV Concurs Literari Esteve Albert 
LOCATION:
METHOD:PUBLISH
X-WR-CALNAME:dosrius@dosrius.cat
X-WR-TIMEZONE:Europe/Madrid
DESCRIPTION:La trobada tindrà lloc el dissabte 1 de juliol a la plaça Pla de la Calma.

URI:https://www.dosrius.cat/actualitat/noticies/3930-37a-cantada-dhavaneres-i-lliurament-de-premis-del-xiv-concurs-literari-esteve-albert-.html
CLASS:PUBLIC
END:VEVENT
END:VCALENDAR
