BEGIN:VCALENDAR
VERSION:2.0
CALSCALE:GREGORIAN
PRODID:-//Diputació de Barcelona//DibaCMS//EN
BEGIN:VEVENT
UID:3928
DTSTAMP:20260422T192557
DTSTART:20230620T080000
DTEND:20240614T000000
SUMMARY:Gaudeix de la revetlla de Sant Joan!
LOCATION:
METHOD:PUBLISH
X-WR-CALNAME:dosrius@dosrius.cat
X-WR-TIMEZONE:Europe/Madrid
DESCRIPTION:Divendres 23 de juny arribarà la Flama del Canigó al nostre municipi. 

URI:https://www.dosrius.cat/actualitat/noticies/gaudeix-de-la-revetlla-de-sant-joan.html
CLASS:PUBLIC
END:VEVENT
END:VCALENDAR
