BEGIN:VCALENDAR
VERSION:2.0
CALSCALE:GREGORIAN
PRODID:-//Diputació de Barcelona//DibaCMS//EN
BEGIN:VEVENT
UID:3925
DTSTAMP:20260422T222911
DTSTART:20230614T110000
DTEND:20480626T000000
SUMMARY:Raquel Santanera i Coloma Bertran i Arnau Obiols actuaran al Pou de Glaç de Canyamars en el marc del festival Poesia i + 2023
LOCATION:
METHOD:PUBLISH
X-WR-CALNAME:dosrius@dosrius.cat
X-WR-TIMEZONE:Europe/Madrid
DESCRIPTION:Ambdós concerts se celebraran el 2 de juliol i les entrades ja es poden adquirir al web www.poesiaimes.cat.

URI:https://www.dosrius.cat/actualitat/noticies/raquel-santanera-i-coloma-bertran-i-arnau-obiols-actuaran-al-pou-de-glac-de-canyamars-en-el-marc-del-festival-poesia-i--2023.html
CLASS:PUBLIC
END:VEVENT
END:VCALENDAR
