BEGIN:VCALENDAR
VERSION:2.0
CALSCALE:GREGORIAN
PRODID:-//Diputació de Barcelona//DibaCMS//EN
BEGIN:VEVENT
UID:3921
DTSTAMP:20260422T191734
DTSTART:20230613T080000
DTEND:20480612T000000
SUMMARY:Aquesta setmana s’habilitaran nous radars de control de velocitat
LOCATION:
METHOD:PUBLISH
X-WR-CALNAME:dosrius@dosrius.cat
X-WR-TIMEZONE:Europe/Madrid
DESCRIPTION:Es disposaran en diferents punts per controlar l’excés de velocitat, garantir la seguretat viària, i conscienciar de la importància de respectar els límits de velocitat establerts. 

URI:https://www.dosrius.cat/actualitat/noticies/aquesta-setmana-shabilitaran-nous-radars-de-control-de-velocitat.html
CLASS:PUBLIC
END:VEVENT
END:VCALENDAR
