BEGIN:VCALENDAR
VERSION:2.0
CALSCALE:GREGORIAN
PRODID:-//Diputació de Barcelona//DibaCMS//EN
BEGIN:VEVENT
UID:3920
DTSTAMP:20260422T193153
DTSTART:20230612T120000
DTEND:20240611T000000
SUMMARY:Més d’un centenar de persones participen en la caminada popular del Dia mundial per a la presa de consciència sobre l'abús i el maltractament a les persones grans
LOCATION:
METHOD:PUBLISH
X-WR-CALNAME:dosrius@dosrius.cat
X-WR-TIMEZONE:Europe/Madrid
DESCRIPTION:L’activitat ha estat tot un èxit de convocatòria i ha comptat amb la col·laboració de l’Institut Els Roures. No us perdeu el vídeo que ha editat Dosrius Ràdio sobre aquesta jornada.

URI:https://www.dosrius.cat/actualitat/noticies/mes-dun-centenar-de-persones-participen-en-la-caminada-popular-del-dia-mundial-per-a-la-presa-de-consciencia-sobre-labus-i-el-maltractament-a-les-persones-grans.html
CLASS:PUBLIC
END:VEVENT
END:VCALENDAR
