BEGIN:VCALENDAR
VERSION:2.0
CALSCALE:GREGORIAN
PRODID:-//Diputació de Barcelona//DibaCMS//EN
BEGIN:VEVENT
UID:3916
DTSTAMP:20260422T222007
DTSTART:20230609T130000
DTEND:20480514T000000
SUMMARY:Comencen a Can Massuet del Far les obres d'habilitació d'una nova canonada d’aigua 
LOCATION:
METHOD:PUBLISH
X-WR-CALNAME:dosrius@dosrius.cat
X-WR-TIMEZONE:Europe/Madrid
DESCRIPTION:Els treballs comportaran afectacions en el trànsit, amb el pas alternatiu de vehicles regulat a través de semàfors.

URI:https://www.dosrius.cat/actualitat/noticies/comencen-a-can-massuet-del-far-les-obres-dhabilitacio-duna-nova-canonada-daigua-.html
CLASS:PUBLIC
END:VEVENT
END:VCALENDAR
