BEGIN:VCALENDAR
VERSION:2.0
CALSCALE:GREGORIAN
PRODID:-//Diputació de Barcelona//DibaCMS//EN
BEGIN:VEVENT
UID:3914
DTSTAMP:20260422T180017
DTSTART:20230608T140000
DTEND:20480626T000000
SUMMARY:La Fira del Bosc-Canyamars Medieval 2023 ja té cartell i dates: 14 i 15 d’octubre
LOCATION:
METHOD:PUBLISH
X-WR-CALNAME:dosrius@dosrius.cat
X-WR-TIMEZONE:Europe/Madrid
DESCRIPTION:Tots aquells paradistes que vulguin participar-hi ja poden inscriure's presentant una instància a l'Ajuntament de Dosrius.

URI:https://www.dosrius.cat/actualitat/noticies/la-fira-del-bosc-canyamars-medieval-2023-ja-te-cartell-i-dates-14-i-15-doctubre.html
CLASS:PUBLIC
END:VEVENT
END:VCALENDAR
