BEGIN:VCALENDAR
VERSION:2.0
CALSCALE:GREGORIAN
PRODID:-//Diputació de Barcelona//DibaCMS//EN
BEGIN:VEVENT
UID:3913
DTSTAMP:20260423T051021
DTSTART:20221017T000000
DTEND:20480626T000000
SUMMARY:La Fira del Bosc-Canyamars Medieval triomfa de nou!
LOCATION:
METHOD:PUBLISH
X-WR-CALNAME:dosrius@dosrius.cat
X-WR-TIMEZONE:Europe/Madrid
DESCRIPTION:El 15 i 16 d’octubre vam poder gaudir d’accions teatralitzades, recreacions històriques, música i dansa, parades d’artesania i gastronomia, demostracions d’oficis i jocs.

URI:https://www.dosrius.cat/actualitat/noticies/la-fira-del-bosc-canyamars-medieval-triomfa-de-nou.html
CLASS:PUBLIC
END:VEVENT
END:VCALENDAR
