BEGIN:VCALENDAR
VERSION:2.0
CALSCALE:GREGORIAN
PRODID:-//Diputació de Barcelona//DibaCMS//EN
BEGIN:VEVENT
UID:3911
DTSTAMP:20260422T161613
DTSTART:20231010T080000
DTEND:20480626T235500
SUMMARY:Policia Local i Mossos d’Esquadra traslladaran consells de seguretat per a prevenir robatoris a gent gran
LOCATION:
METHOD:PUBLISH
X-WR-CALNAME:dosrius@dosrius.cat
X-WR-TIMEZONE:Europe/Madrid
DESCRIPTION:La sessió tindrà lloc el dijous 19 d'octubre, a les 16 h, a la Sala de Plens; i és oberta a tota la població, amb especial interès per a la gent gran.

URI:https://www.dosrius.cat/actualitat/noticies/policia-local-i-mossos-desquadra-traslladaran-consells-de-seguretat-per-a-prevenir-robatoris-a-gent-gran.html
CLASS:PUBLIC
END:VEVENT
END:VCALENDAR
