BEGIN:VCALENDAR
VERSION:2.0
CALSCALE:GREGORIAN
PRODID:-//Diputació de Barcelona//DibaCMS//EN
BEGIN:VEVENT
UID:3910
DTSTAMP:20260422T194017
DTSTART:20230608T080000
DTEND:20480627T000000
SUMMARY:Comença la temporada d’estiu 2023 a la piscina de Can Batlle
LOCATION:
METHOD:PUBLISH
X-WR-CALNAME:dosrius@dosrius.cat
X-WR-TIMEZONE:Europe/Madrid
DESCRIPTION:L’equipament obre portes de dilluns a dijous, d’11 a 19 h; els divendres, d’11 a 20 h; i els dissabtes i diumenges, de 10 a 20 h.

URI:https://www.dosrius.cat/actualitat/noticies/comenca-la-temporada-destiu-2023-a-la-piscina-de-can-batlle.html
CLASS:PUBLIC
END:VEVENT
END:VCALENDAR
